BEGIN:VCALENDAR
VERSION:2.0
PRODID:-//Mostra d&#039;Oltremare di Napoli - ECPv5.0.3.1//NONSGML v1.0//EN
CALSCALE:GREGORIAN
METHOD:PUBLISH
X-WR-CALNAME:Mostra d&#039;Oltremare di Napoli
X-ORIGINAL-URL:https://archivio.mostradoltremare.it
X-WR-CALDESC:Eventi per Mostra d&#039;Oltremare di Napoli
BEGIN:VTIMEZONE
TZID:UTC
BEGIN:STANDARD
TZOFFSETFROM:+0000
TZOFFSETTO:+0000
TZNAME:UTC
DTSTART:20160101T000000
END:STANDARD
END:VTIMEZONE
BEGIN:VEVENT
DTSTART;VALUE=DATE:20160907
DTEND;VALUE=DATE:20160908
DTSTAMP:20260421T031240
CREATED:20160630T080917Z
LAST-MODIFIED:20160905T094030Z
UID:2451-1473206400-1473292799@archivio.mostradoltremare.it
SUMMARY:Test di Ingresso di Lingua Inglese A.A.2016/2017
DESCRIPTION:Test di ingresso obbligatorio per gli studenti che intendono inserire la lingua inglese nel piano di studio nei seguenti Corsi di laurea del Dipartimento di Studi Letterari\, Linguistici e Comparati\n– Lingue e Culture Comparate\n– Lingue\, Letterature e Culture dellEuropa e delle Americhe\n– Mediazione Linguistica e Culturale \nPer i candidati dalla lettera A alla G: ore 9\,00 \nPer i candidati dalla lettera H alla Z: ore 14\,00 \nIngresso candidati Piazzale Tecchio \nInformazioni su www.unior.it \n\n\n\nOrganizzatore\n\n\n\n\n\n\nUNIVERSITA’ DEGLI STUDI L’ORIENTALE\n\n\nVIA PARTENOPE 10/A – 80121 NAPOLI\n\n\n\n\n\nE-mail: info@unior.it\n\n\n\n\n\n\nFrequenza\n\n\n\n\n\n\nAnnuale\n\n\n\n\n\n\nIndirizzo web\n\n\n\n\n\n\nhttp://www.unior.it\n\n\n\n
URL:https://archivio.mostradoltremare.it/event/test-ingresso-lingua-inglese-20162017/
LOCATION:Padiglione 5\, viale Kennedy 54\, Napoli\, NA\, 80125
CATEGORIES:Concorsi
ATTACH;FMTTYPE=image/gif:https://archivio.mostradoltremare.it/wp-content/uploads/2016/06/logoUNO.gif
END:VEVENT
END:VCALENDAR