BEGIN:VCALENDAR
VERSION:2.0
PRODID:-//Mostra d&#039;Oltremare di Napoli - ECPv5.0.3.1//NONSGML v1.0//EN
CALSCALE:GREGORIAN
METHOD:PUBLISH
X-WR-CALNAME:Mostra d&#039;Oltremare di Napoli
X-ORIGINAL-URL:https://archivio.mostradoltremare.it
X-WR-CALDESC:Eventi per Mostra d&#039;Oltremare di Napoli
BEGIN:VTIMEZONE
TZID:UTC
BEGIN:STANDARD
TZOFFSETFROM:+0000
TZOFFSETTO:+0000
TZNAME:UTC
DTSTART:20160101T000000
END:STANDARD
END:VTIMEZONE
BEGIN:VEVENT
DTSTART;TZID=UTC:20161022T000000
DTEND;TZID=UTC:20161030T000000
DTSTAMP:20260421T105023
CREATED:20160727T130645Z
LAST-MODIFIED:20161024T114645Z
UID:2783-1477094400-1477785600@archivio.mostradoltremare.it
SUMMARY:Tuttosposi 2016 - 28^ edizione
DESCRIPTION:Fiera del wedding \nDal lunedì al venerdì = apertura ore 16\,30\, chiusura ore 21\,30 – ingresso gratuito; Sabato e domenica = apertura ore 10\,30\, chiusura ore 22\,30 – Biglietto Euro 10\,99;  ridotto Euro 7\,99 per gli ingressi entro le ore 15\,00 – ingresso gratuito per bambini fino ai 12 anni e per le coppie che hanno attivato la Privilege Card. Per attivazioni ed informazioni www.tuttosposi.it \nForum della Famiglia il 22 ottobre ore 12\,00 ed il 23 ottobre ore 11\,00; Casting di Miss Tutto Sposi il 24 ottobre ore 16\,30; Elezione di Miss Tutto Sposi il 28 ottobre \nOspiti dell’edizione 2016 Belen Rodriguez (sabato 22)\, Alfonso Signorini (domenica 23)\, Carlo Pignatelli (giovedì 27)\, Pamela Prati (venerdì 28)\, Giulio Berruti e Madalina Ghenea (domenica 30). \nProgramma sfilate al PalaSposa – padiglione 5: Impero Couture 22 ottobre ore 20\,30; Gianni Molaro 23 ottobre ore 19\,00; Vito Aramo 23 ottobre ore 21\,00; Alta Moda Sposa 24\, 25 e 26 ottobre ore 20\,00; Atelier Carol (solo con invito) 27 ottobre ore 20\,00; Marie Glamour (solo con invito) 28 ottobre ore 20\,30; Stella White (solo con invito) 29 ottobre ore 19\,00; Vanitas (solo con invito) 30 ottobre ore 12\,30; Gianni Molaro 30 ottobre ore 19\,00; Passaro Sposa (solo con invito) 30 ottobre ore 21\,00. \nSia gli orari che gli eventi su riportati sono suscettibili di variazione senza preavviso per motivi organizzativi. \n\n\n\n\n\n\n\n\n\n\n\n\n\n\n\n\n\n\n\n\n\n\n\n\n\n\n\n\n\n\n\n\n\n\n\n\n\n\n\n\n\n\n\n\n\n\n\n\n\n\n\n\n\n\n\n\n\n\n
URL:https://archivio.mostradoltremare.it/event/tuttosposi-2016-28-edizione/
LOCATION:Padiglioni 1-2-3-4-5\, Piazzale Tecchio\, Viale Kennedy\, Napoli\, 80125
CATEGORIES:Fiera
ATTACH;FMTTYPE=image/png:https://archivio.mostradoltremare.it/wp-content/uploads/2016/07/tutto-Sposi.png
END:VEVENT
END:VCALENDAR