BEGIN:VCALENDAR
VERSION:2.0
PRODID:-//Mostra d&#039;Oltremare di Napoli - ECPv5.0.3.1//NONSGML v1.0//EN
CALSCALE:GREGORIAN
METHOD:PUBLISH
X-WR-CALNAME:Mostra d&#039;Oltremare di Napoli
X-ORIGINAL-URL:https://archivio.mostradoltremare.it
X-WR-CALDESC:Eventi per Mostra d&#039;Oltremare di Napoli
BEGIN:VTIMEZONE
TZID:UTC
BEGIN:STANDARD
TZOFFSETFROM:+0000
TZOFFSETTO:+0000
TZNAME:UTC
DTSTART:20170101T000000
END:STANDARD
END:VTIMEZONE
BEGIN:VEVENT
DTSTART;TZID=UTC:20170128T203000
DTEND;TZID=UTC:20170128T230000
DTSTAMP:20260420T184523
CREATED:20170119T100924Z
LAST-MODIFIED:20170127T124358Z
UID:3707-1485635400-1485644400@archivio.mostradoltremare.it
SUMMARY:Un Mondo di Solidarietà 2017 - 9^ edizione
DESCRIPTION:Evento Patrocinato dal Comune di Napoli\, Assessorato ai Giovani. Madrina d’eccezione Maria Grazia Cucinotta. \nPresentano Antonio D’Ausilio e Maria Mazza. \nArtisti ospiti: Deborah Iurato\, Francesco Cicchella\, Gabriella Germani\, Valentina Stella\, Giovanni Caccamo\, Urban Strangers\, Ciro Giustiniani\, Enzo & Sal\, Loomy\, Sud 58\, Vincenzo Durevole e Giovanna D’Anna \nInizio spettacolo ore 20\,30 – Ingresso Viale Kennedy \nPrezzo Biglietto: Euro 15\,00 + diritti di prevendita – in vendita presso biglietterie circuito GO2 e online su www.go2.it \n
URL:https://archivio.mostradoltremare.it/event/un-mondo-solidarieta-2017-9-edizione/
LOCATION:Teatro Mediterraneo e Piazzale antistante\, Viale J.F.Kennedy 54\, Napoli\, 80125
CATEGORIES:Spettacolo
ATTACH;FMTTYPE=image/jpeg:https://archivio.mostradoltremare.it/wp-content/uploads/2017/01/732-381-Un-Mondo-di-Solidarietà.jpg
END:VEVENT
END:VCALENDAR