BEGIN:VCALENDAR
VERSION:2.0
PRODID:-//Mostra d&#039;Oltremare di Napoli - ECPv5.0.3.1//NONSGML v1.0//EN
CALSCALE:GREGORIAN
METHOD:PUBLISH
X-WR-CALNAME:Mostra d&#039;Oltremare di Napoli
X-ORIGINAL-URL:https://archivio.mostradoltremare.it
X-WR-CALDESC:Eventi per Mostra d&#039;Oltremare di Napoli
BEGIN:VTIMEZONE
TZID:UTC
BEGIN:STANDARD
TZOFFSETFROM:+0000
TZOFFSETTO:+0000
TZNAME:UTC
DTSTART:20190101T000000
END:STANDARD
END:VTIMEZONE
BEGIN:VEVENT
DTSTART;VALUE=DATE:20190702
DTEND;VALUE=DATE:20190710
DTSTAMP:20260420T100532
CREATED:20190320T103620Z
LAST-MODIFIED:20190704T110121Z
UID:9168-1562025600-1562716799@archivio.mostradoltremare.it
SUMMARY:Universiade 2019 - 30^ edizione
DESCRIPTION:Tuffi = presso la Piscina Olimpica. Orari: il 4 e 5 luglio dalle 12\,00 alle 19\,00; il 6 luglio dalle 10\,00 alle 19\,00; il 7 luglio dalle 14\,30 alle 18\,00; l’8 luglio dalle 12\,00 alle 17\,00 \nJudo = presso il Padiglione 6. Orari: il 4\, 5 e 6 luglio dalle 11\,00 alle 20\,00; il 7 luglio dalle 10\,00 alle 21\,00. \nTiro a Segno (fucile e pistola) = presso il Padiglione 3. Orari: il 4 e 5 luglio dalle 9\,00 alle 17\,00; il 6 luglio dalle 8\,30 alle 16\,00; l’8 e 9 luglio dalle 9\,30 alle 15\,00. \nIngresso e botteghino: Piazzale Tecchio \nPrezzi biglietti: \nIntero = Euro 5\,00 \nRidotto (Under 18\, Over 65\, Militari e Studenti con libretto universitario) = Euro 3\,00 \nFamily Package (2 adulti e 2 Under 18) = Euro 14\,00. \nBiglietti acquistabili su https://www.universiade2019napoli.it/info-tickets/ oppure nelle prevendite autorizzate. \nPer maggiori informazioni consultare il sito web: https://www.universiade2019napoli.it \n  \n
URL:https://archivio.mostradoltremare.it/event/universiade-2019-30-edizione/
LOCATION:Padiglione 6\, Padiglione 3 e Piscina Olimpica\, Napoli\, 80125\, Italia
CATEGORIES:Sportivo
ATTACH;FMTTYPE=image/png:https://archivio.mostradoltremare.it/wp-content/uploads/2019/03/20841008_470163753345426_4612326580560994602_n.png
ORGANIZER;CN="Comitato%20Organizzatore%20XXX%20Universiade%20Estiva%20Napoli%202019":MAILTO:info@universiade2019napoli.it
END:VEVENT
END:VCALENDAR