BEGIN:VCALENDAR
VERSION:2.0
PRODID:-//Mostra d&#039;Oltremare di Napoli - ECPv5.0.3.1//NONSGML v1.0//EN
CALSCALE:GREGORIAN
METHOD:PUBLISH
X-WR-CALNAME:Mostra d&#039;Oltremare di Napoli
X-ORIGINAL-URL:https://archivio.mostradoltremare.it
X-WR-CALDESC:Eventi per Mostra d&#039;Oltremare di Napoli
BEGIN:VTIMEZONE
TZID:UTC
BEGIN:STANDARD
TZOFFSETFROM:+0000
TZOFFSETTO:+0000
TZNAME:UTC
DTSTART:20160101T000000
END:STANDARD
END:VTIMEZONE
BEGIN:VEVENT
DTSTART;TZID=UTC:20161007T000000
DTEND;TZID=UTC:20161010T000000
DTSTAMP:20260421T014944
CREATED:20160630T083538Z
LAST-MODIFIED:20160927T075224Z
UID:2459-1475798400-1476057600@archivio.mostradoltremare.it
SUMMARY:VEBO 2016 - 15^ edizione
DESCRIPTION:Kermesse B2B esclusiva per gli addetti dei settori bomboniera\, argenteria\, complementi di arredo. \nVebo riunisce tutte le categorie merceologiche al più alto livello\, facendo coesistere la tradizione e l’avanguardia\, il classico e il contemporaneo. \n\n\n\nOrari di apertura:\n\n\n\nvenerdì e sabato: dalle 9\,00 alle 19\,00 \ndomenica: dalle 9\,00 alle 20\,00 \nlunedì: dalle 9\,00 alle 15\,30 \nIngressi: \nPiazzale Tecchio\, Viale Kennedy\, Via Terracina \n\n\n\nOrganizzatore:\n\n\n\n\n\n\nVebofiera srl\n\n\nCorso Europa 369 – Galleria Atlante\n80017 Melito di Napoli\n\n\nTelefono: 0817118833\n\n\nFax: 0817111861\n\n\nIndirizzo web: http://www.vebofiera.com\n\n\nE-mail: vebofiera@gmail.com – info@vebofiera.com\n\n\n\n\n\n\n\n\n\n\n\n\n\n\n\n\n\n
URL:https://archivio.mostradoltremare.it/event/vebo-2016-15-edizione/
LOCATION:Padiglioni 1-2-3-3B-4-5-6-Area Merchandising\, Piazzale Tecchio e Viale Kennedy\, Napoli\, 80125
CATEGORIES:Fiera
ATTACH;FMTTYPE=image/jpeg:https://archivio.mostradoltremare.it/wp-content/uploads/2016/06/Senza-titolo-1-1.jpg
END:VEVENT
END:VCALENDAR