BEGIN:VCALENDAR
VERSION:2.0
PRODID:-//Mostra d&#039;Oltremare di Napoli - ECPv5.0.3.1//NONSGML v1.0//EN
CALSCALE:GREGORIAN
METHOD:PUBLISH
X-WR-CALNAME:Mostra d&#039;Oltremare di Napoli
X-ORIGINAL-URL:https://archivio.mostradoltremare.it
X-WR-CALDESC:Eventi per Mostra d&#039;Oltremare di Napoli
BEGIN:VTIMEZONE
TZID:UTC
BEGIN:STANDARD
TZOFFSETFROM:+0000
TZOFFSETTO:+0000
TZNAME:UTC
DTSTART:20160101T000000
END:STANDARD
END:VTIMEZONE
BEGIN:VEVENT
DTSTART;TZID=UTC:20161202T100000
DTEND;TZID=UTC:20161204T190000
DTSTAMP:20260420T225800
CREATED:20161128T102009Z
LAST-MODIFIED:20161128T150445Z
UID:3358-1480672800-1480878000@archivio.mostradoltremare.it
SUMMARY:VideoGameShow 4^ edizione
DESCRIPTION:Vivere il videogioco!\nÈ questo lo slogan della manifestazione che unisce esibizioni dei principali YouTuber del settore con tornei\, anteprime\, gioco libero\, retrogame\, e molto altro. \nVideoGameShow\, un mix esplosivo tra i migliori YouTubers Italiani del gaming\, i più importanti titoli e i migliori tornei! Tre giorni di svago totalmente dedicato al divertimento con il nostro passatempo preferito. \n
URL:https://archivio.mostradoltremare.it/event/videogameshow/
LOCATION:Padiglione 1\, P.le Tecchio\, Napoli\, Italia
CATEGORIES:Fiera
ATTACH;FMTTYPE=image/png:https://archivio.mostradoltremare.it/wp-content/uploads/2016/11/Videogameshow.png
ORGANIZER;CN="Visiona%20Scarl":MAILTO:info@videogameshow.com
END:VEVENT
END:VCALENDAR