BEGIN:VCALENDAR
VERSION:2.0
PRODID:-//Mostra d&#039;Oltremare di Napoli - ECPv5.0.3.1//NONSGML v1.0//EN
CALSCALE:GREGORIAN
METHOD:PUBLISH
X-WR-CALNAME:Mostra d&#039;Oltremare di Napoli
X-ORIGINAL-URL:https://archivio.mostradoltremare.it
X-WR-CALDESC:Eventi per Mostra d&#039;Oltremare di Napoli
BEGIN:VTIMEZONE
TZID:UTC
BEGIN:STANDARD
TZOFFSETFROM:+0000
TZOFFSETTO:+0000
TZNAME:UTC
DTSTART:20170101T000000
END:STANDARD
END:VTIMEZONE
BEGIN:VEVENT
DTSTART;TZID=UTC:20170610T210000
DTEND;TZID=UTC:20170610T230000
DTSTAMP:20260420T110137
CREATED:20161228T120318Z
LAST-MODIFIED:20161228T120318Z
UID:3550-1497128400-1497135600@archivio.mostradoltremare.it
SUMMARY:IL VOLO in "Notte magica"
DESCRIPTION:A Tribute to the Three Tenors. \nMelodie del repertorio napoletano\, italiano ed internazionale si alternano a brani tratti da famosi musical e ad arie di opere liriche. \nBiglietti in vendita presso i circuiti ETES (www.etes.it) e TICKETONE (www.ticketone.it) \nPrezzi: \nCavea Bassa Gold Numerata = Euro 75\,00 \nCavea Bassa Numerata = Euro 60\,00 \nCavea Alta Numerata = Euro 45\,00 \nPanoramica Non Numerata = Euro 32\,50 \n
URL:https://archivio.mostradoltremare.it/event/volo-notte-magica/
LOCATION:ARENA FLEGREA\, Via Terracina 197\, Napoli\, 80125
CATEGORIES:Spettacolo
ATTACH;FMTTYPE=image/jpeg:https://archivio.mostradoltremare.it/wp-content/uploads/2016/12/732-il-volo.jpg
ORGANIZER;CN="Etes%20-%20Come%20on%20Web":MAILTO:info@etes.it
END:VEVENT
END:VCALENDAR