BEGIN:VCALENDAR
VERSION:2.0
PRODID:-//Mostra d&#039;Oltremare di Napoli - ECPv5.0.3.1//NONSGML v1.0//EN
CALSCALE:GREGORIAN
METHOD:PUBLISH
X-WR-CALNAME:Mostra d&#039;Oltremare di Napoli
X-ORIGINAL-URL:https://archivio.mostradoltremare.it
X-WR-CALDESC:Eventi per Mostra d&#039;Oltremare di Napoli
BEGIN:VTIMEZONE
TZID:UTC
BEGIN:STANDARD
TZOFFSETFROM:+0000
TZOFFSETTO:+0000
TZNAME:UTC
DTSTART:20170101T000000
END:STANDARD
END:VTIMEZONE
BEGIN:VEVENT
DTSTART;TZID=UTC:20170519T100000
DTEND;TZID=UTC:20170520T193000
DTSTAMP:20260423T164557
CREATED:20170414T105721Z
LAST-MODIFIED:20170517T075035Z
UID:5401-1495188000-1495308600@archivio.mostradoltremare.it
SUMMARY:Expo Franchising Napoli 2017 - 1^ edizione
DESCRIPTION:\n\n\n\n\nIl primo e unico grande Salone Professionale dedicato al Retail\, al Franchising\, ai Network ed alle Startup nel centro del Mediterraneo\, dedicato alle aziende che vogliono ampliare la rete e potenziare la distribuzione ed il retail nel ricco ed interessante mercato del Centro-Sud.\nPre-accredito visitatori online su: www.expofranchisingnapoli.it – \nPer contatti: info@expofranchisingnapoli.it; visitatori@expofranchisingnapoli.it \nIngresso Viale Kennedy \nOrari: venerdì dalle 10\,00 alle 19\,30 – sabato dalle 9\,30 alle 19\,30 \n\n\n\n\n\n
URL:https://archivio.mostradoltremare.it/event/expo-franchising-napoli-2017-1-edizione/
LOCATION:Padiglione 5\, viale Kennedy 54\, Napoli\, NA\, 80125
CATEGORIES:Fiera
ATTACH;FMTTYPE=image/jpeg:https://archivio.mostradoltremare.it/wp-content/uploads/2017/04/expo_franchising_mostra_oltremare.jpg
ORGANIZER;CN="PROGECTA%20SRL":MAILTO:info@progecta.org
END:VEVENT
BEGIN:VEVENT
DTSTART;TZID=UTC:20170519T103000
DTEND;TZID=UTC:20170521T200000
DTSTAMP:20260423T164557
CREATED:20170330T093330Z
LAST-MODIFIED:20170519T101342Z
UID:5285-1495189800-1495396800@archivio.mostradoltremare.it
SUMMARY:Napoli Motorshow 2017 - 1^ edizione
DESCRIPTION:Supercar\, Motorsport\, Experience & Stuntshow\, Off-Road 4×4\, Tuning & Contest\, Ecotech Mobility\, Club e Auto d’Epoca\, Aftermarket & Professional\, Talk Show \, Test Drive e Test Ride\, Freestyle Motocross. \n    \n\n\n\n\n\n\nUna manifestazione concentrata sul mondo dei motori\, per dare coinvolgimento a tutto il mondo delle due e quattro ruote\, \naperta ai professionisti e ai semplici appassionati.  Testimonial: Giancarlo Fisichella. \n\n\n\n\n\n\nPrezzi biglietti: \nvenerdì = Euro 9\,00; sabato e domenica = Euro 12\,00. \nPrevendite Circuito Etes e www.etes.it \nGratis per portatori di handicap non deambulanti con accompagnatore\, bambini fino a 12 anni compiuti se accompagnati da un adulto e Forze dell’Ordine in divisa. \nOrari: \nvenerdì e sabato: 10\,30-22\,00 – domenica: 10\,30-20\,00 \nInfoline 3331763444 – Per Gruppi e scuole\, si prega contattare la segreteria organizzativa all’indirizzo mail: info@napolimotorshow.it \nIngresso Piazzale Tecchio \n
URL:https://archivio.mostradoltremare.it/event/napolimotorshow-1-edizione/
LOCATION:Padiglioni 3\, 3B\, 4\, 5 ed aree esterne
CATEGORIES:Fiera
ATTACH;FMTTYPE=image/jpeg:https://archivio.mostradoltremare.it/wp-content/uploads/2017/03/napoli_motorshow_mostra_oltremare.jpg
ORGANIZER;CN="MGF%20Events%20Management%20srls":MAILTO:info@motorexperience.it
END:VEVENT
END:VCALENDAR