BEGIN:VCALENDAR
VERSION:2.0
PRODID:-//Mostra d&#039;Oltremare di Napoli - ECPv5.0.3.1//NONSGML v1.0//EN
CALSCALE:GREGORIAN
METHOD:PUBLISH
X-WR-CALNAME:Mostra d&#039;Oltremare di Napoli
X-ORIGINAL-URL:https://archivio.mostradoltremare.it
X-WR-CALDESC:Eventi per Mostra d&#039;Oltremare di Napoli
BEGIN:VTIMEZONE
TZID:UTC
BEGIN:STANDARD
TZOFFSETFROM:+0000
TZOFFSETTO:+0000
TZNAME:UTC
DTSTART:20170101T000000
END:STANDARD
END:VTIMEZONE
BEGIN:VEVENT
DTSTART;TZID=UTC:20170915T103000
DTEND;TZID=UTC:20170924T230000
DTSTAMP:20260421T040715
CREATED:20170113T103313Z
LAST-MODIFIED:20170922T101810Z
UID:3624-1505471400-1506294000@archivio.mostradoltremare.it
SUMMARY:Festival dell'Oriente 2017 - 3^ edizione
DESCRIPTION:\n\n\n\n\n\nApertura al pubblico nei giorni di venerdì\, sabato e domenica. \nMostre fotografiche\, bazar\, stand commerciali\, gastronomia tipica\, cerimonie tradizionali\, spettacoli folkloristici\, medicina naturale\, concerti\, danze etniche ed esibizioni. Uno straordinario viaggio a “km 0” dedicato a Cina\, Giappone\, India\, Mongolia\, Thailandia\, Sri Lanka\, Indonesia\, Vietnam\, Medio Oriente. Inoltre Conferenze e Workshop: programma dettagliato su www.festivaldelloriente.net. \nInclusi anche gli eventi Festival delle Arti Marziali (www.festivaldelleartimarziali.it) e Fiera Salute e Benessere (www.fierasalutebenessere.it). \nHoli Festival: domenica 17 settembre e domenica 24 settembre dalle ore 15\,30 – www.holifestivaldelloriente.it \nSpettacolo Fontana Esedra: sabato 16 settembre e sabato 23 settembre alle ore 21\,00 \nIngressi e biglietterie: Piazzale Tecchio e Viale Kennedy\n \nAttiva la Prevendita online sul sito www.festivaldelloriente.net. I possessori di biglietti acquistati online potranno direttamente recarsi ai varchi di ingresso\, senza passare per le biglietterie. \nPrezzo biglietti: Euro 12\,00 per adulti e ragazzi over 10 + diritti di prevendita; Euro 5\,00 per accompagnatori dei disabili e per ragazzi dai 6 ai 10 anni compiuti; Omaggio per bambini under 5 e per portatori di handicap con disabilità al 100% certificata da ASL o foglio verde \nOrganizzazione: Idee in fiera srl – Via E. Chiesa 15 – 54100 Massa \nInfoline:   3387332218 – 0585861311 \nContatto per espositori: angela@festivaldelloriente.net \nContatto per la stampa: ufficiostampa@festivaldelloriente.net \nContatto per conferenze: nicolini.festivaldelloriente@gmail.com \n\n\n\n\n\n\n
URL:https://archivio.mostradoltremare.it/event/festival-delloriente-2017-3-edizione/
LOCATION:area 28 Fontane e padiglioni 10-1-2-3-3B-4\, Piazzale Tecchio \, Napoli\, 80125
CATEGORIES:Fiera
ATTACH;FMTTYPE=image/jpeg:https://archivio.mostradoltremare.it/wp-content/uploads/2017/01/oriente381.jpg
END:VEVENT
END:VCALENDAR