BEGIN:VCALENDAR
VERSION:2.0
PRODID:-//Mostra d&#039;Oltremare di Napoli - ECPv5.0.3.1//NONSGML v1.0//EN
CALSCALE:GREGORIAN
METHOD:PUBLISH
X-WR-CALNAME:Mostra d&#039;Oltremare di Napoli
X-ORIGINAL-URL:https://archivio.mostradoltremare.it
X-WR-CALDESC:Eventi per Mostra d&#039;Oltremare di Napoli
BEGIN:VTIMEZONE
TZID:UTC
BEGIN:STANDARD
TZOFFSETFROM:+0000
TZOFFSETTO:+0000
TZNAME:UTC
DTSTART:20170101T000000
END:STANDARD
END:VTIMEZONE
BEGIN:VEVENT
DTSTART;TZID=UTC:20171006T090000
DTEND;TZID=UTC:20171009T153000
DTSTAMP:20260421T024544
CREATED:20170221T154022Z
LAST-MODIFIED:20171005T135302Z
UID:4894-1507280400-1507563000@archivio.mostradoltremare.it
SUMMARY:Vebo 2017 - 16^ edizione
DESCRIPTION:Vetrina della Bomboniera. \nFiera internazionale per operatori di settore dedicata a bomboniere\, articoli da regalo\, oggettistica per la casa. Ingresso gratuito previa registrazione online su www.vebofiera.com oppure in fiera presso la Reception. \nPremiazione Vebo Award\, dedicato alle aziende produttrici ed alla stampa\, presso il padiglione 2\, sabato alle ore 16\,30. \nNovità di quest’anno: l’etichetta parlante ed una speciale App\, presentata dalla FIR (Federazione italiana Regalo) e realizzata dalla Marckar che\, grazie ad un codice adesivo sugli oggetti e ad uno smartphone\, consente il caricamento di video\, foto e messaggi relativi ad un evento. \nOrari manifestazione: \nvenerdì 6 ottobre e sabato 7 ottobre dalle 9\,00 alle 19\,00 \ndomenica 8 ottobre dalle 9\,00 alle 20\,00 \nlunedì 9 ottobre dalle 9\,00 alle 15\,30 \nIngressi Visitatori: Piazzale Tecchio e Viale Kennedy – Parcheggio Visitatori: Via Terracina \n
URL:https://archivio.mostradoltremare.it/event/vebo-2017-16-edizione/
LOCATION:Padiglioni 1-2-3-3B-4-5-6-Area Merchandising\, Piazzale Tecchio e Viale Kennedy\, Napoli\, 80125
CATEGORIES:Fiera
ATTACH;FMTTYPE=image/png:https://archivio.mostradoltremare.it/wp-content/uploads/2017/02/vebo-2017.png
ORGANIZER;CN="Vebofiera%20s.r.l.":MAILTO:info@vebofiera.com
END:VEVENT
END:VCALENDAR