BEGIN:VCALENDAR
VERSION:2.0
PRODID:-//Mostra d&#039;Oltremare di Napoli - ECPv5.0.3.1//NONSGML v1.0//EN
CALSCALE:GREGORIAN
METHOD:PUBLISH
X-WR-CALNAME:Mostra d&#039;Oltremare di Napoli
X-ORIGINAL-URL:https://archivio.mostradoltremare.it
X-WR-CALDESC:Eventi per Mostra d&#039;Oltremare di Napoli
BEGIN:VTIMEZONE
TZID:UTC
BEGIN:STANDARD
TZOFFSETFROM:+0000
TZOFFSETTO:+0000
TZNAME:UTC
DTSTART:20160101T000000
END:STANDARD
END:VTIMEZONE
BEGIN:VEVENT
DTSTART;TZID=UTC:20161221T170000
DTEND;TZID=UTC:20161221T230000
DTSTAMP:20260420T200955
CREATED:20161116T112213Z
LAST-MODIFIED:20161220T130642Z
UID:3166-1482339600-1482361200@archivio.mostradoltremare.it
SUMMARY:Spettacolo di danza ArtGarage
DESCRIPTION:\n\n\n\n\n\n\n\n\n\n\n\n\n\nPROGRAMMA: \n– 17:00 – ArtGarage\n– 17:45 – Accademia di Danza Tersicore\n– 18:00 – La Compagnia della Danza\n– 18:30 – Akerusia Danza\n– 19:00 – TAN – Centro Studi Danza…\n_________________________________ \nINTERVALLO\n_________________________________ \n– 20.00 – Campania Arte Danza\n_________________________________ \nINTERVALLO\n_________________________________\n– 21.30 – Centro Artistico di Portici “Accademia dello Spettacolo” \n\n\n\n\n\n\n\n\n\n\n\n\n\n\n  \n
URL:https://archivio.mostradoltremare.it/event/spettacolo-di-danza/
LOCATION:Teatro Mediterraneo e Piazzale antistante\, Viale J.F.Kennedy 54\, Napoli\, 80125
CATEGORIES:Spettacolo
ATTACH;FMTTYPE=image/png:https://archivio.mostradoltremare.it/wp-content/uploads/2016/11/732-artgarage_logo-2.png
END:VEVENT
END:VCALENDAR