BEGIN:VCALENDAR
VERSION:2.0
PRODID:-//Mostra d&#039;Oltremare di Napoli - ECPv5.0.3.1//NONSGML v1.0//EN
CALSCALE:GREGORIAN
METHOD:PUBLISH
X-WR-CALNAME:Mostra d&#039;Oltremare di Napoli
X-ORIGINAL-URL:https://archivio.mostradoltremare.it
X-WR-CALDESC:Eventi per Mostra d&#039;Oltremare di Napoli
BEGIN:VTIMEZONE
TZID:UTC
BEGIN:STANDARD
TZOFFSETFROM:+0000
TZOFFSETTO:+0000
TZNAME:UTC
DTSTART:20170101T000000
END:STANDARD
END:VTIMEZONE
BEGIN:VEVENT
DTSTART;TZID=UTC:20170623T200000
DTEND;TZID=UTC:20170625T235900
DTSTAMP:20260420T105921
CREATED:20170620T135139Z
LAST-MODIFIED:20170620T135139Z
UID:5819-1498248000-1498435140@archivio.mostradoltremare.it
SUMMARY:Newroz Festival 2017 - 3^ edizione
DESCRIPTION:23 giugno: Ciccio Merolla\, 99 Posse\, James Senese e Napoli Centrale \n24 giugno: Foja \n25 giugno: Gazzelle\, Lo Stato Sociale \n  \nPrezzi biglietti: \n23 giugno = Euro 10\,00 \n24 giugno = Euro 6\,00 \n25 giugno = Euro 10\,00 \nAbbonamento per le 3 serate = Euro 20\,00 \nIn prevendita su www.concerteria.it \n
URL:https://archivio.mostradoltremare.it/event/newroz-festival-2017-3-edizione/
LOCATION:Area 17\, Via Usodimare (ingresso Zoo)\, Napoli\, 80125
CATEGORIES:Spettacolo
ATTACH;FMTTYPE=image/jpeg:https://archivio.mostradoltremare.it/wp-content/uploads/2017/06/NEWROZ-FESTIVAL.jpg
END:VEVENT
END:VCALENDAR