BEGIN:VCALENDAR
VERSION:2.0
PRODID:-//Mostra d&#039;Oltremare di Napoli - ECPv5.0.3.1//NONSGML v1.0//EN
CALSCALE:GREGORIAN
METHOD:PUBLISH
X-WR-CALNAME:Mostra d&#039;Oltremare di Napoli
X-ORIGINAL-URL:https://archivio.mostradoltremare.it
X-WR-CALDESC:Eventi per Mostra d&#039;Oltremare di Napoli
BEGIN:VTIMEZONE
TZID:UTC
BEGIN:STANDARD
TZOFFSETFROM:+0000
TZOFFSETTO:+0000
TZNAME:UTC
DTSTART:20180101T000000
END:STANDARD
END:VTIMEZONE
BEGIN:VEVENT
DTSTART;TZID=UTC:20180217T223000
DTEND;TZID=UTC:20180218T040000
DTSTAMP:20260419T221122
CREATED:20180215T113355Z
LAST-MODIFIED:20180215T113355Z
UID:7048-1518906600-1518926400@archivio.mostradoltremare.it
SUMMARY:Evento musicale Fatima Yamaha
DESCRIPTION:Per la prima volta a Napoli il più innovativo live in circolazione nella scena elettronica contemporanea. \nopening affidato alla DJ ALDOINA\nclosing affidato al DJ Andieg \nBiglietti in vendita su www.rentadvisor.net \n
URL:https://archivio.mostradoltremare.it/event/evento-musicale-fatima-yamaha/
LOCATION:Atrio Teatro Mediterraneo\, Viale Kennedy 54\, Napoli\, 80125\, Italia
CATEGORIES:Spettacolo
ATTACH;FMTTYPE=image/jpeg:https://archivio.mostradoltremare.it/wp-content/uploads/2018/02/fatima-yamaha.jpg
END:VEVENT
END:VCALENDAR