BEGIN:VCALENDAR
VERSION:2.0
PRODID:-//Mostra d&#039;Oltremare di Napoli - ECPv5.0.3.1//NONSGML v1.0//EN
CALSCALE:GREGORIAN
METHOD:PUBLISH
X-WR-CALNAME:Mostra d&#039;Oltremare di Napoli
X-ORIGINAL-URL:https://archivio.mostradoltremare.it
X-WR-CALDESC:Eventi per Mostra d&#039;Oltremare di Napoli
BEGIN:VTIMEZONE
TZID:UTC
BEGIN:STANDARD
TZOFFSETFROM:+0000
TZOFFSETTO:+0000
TZNAME:UTC
DTSTART:20180101T000000
END:STANDARD
END:VTIMEZONE
BEGIN:VEVENT
DTSTART;TZID=UTC:20180321T203000
DTEND;TZID=UTC:20180321T223000
DTSTAMP:20260419T202434
CREATED:20180314T101417Z
LAST-MODIFIED:20180314T111839Z
UID:7212-1521664200-1521671400@archivio.mostradoltremare.it
SUMMARY:Concerto per i 25 anni della Nuova Orchestra Scarlatti
DESCRIPTION:Per celebrare i 25 anni di attività della Nuova Orchestra Scarlatti\, fondata dopo lo scioglimento dell’Orchestra Scarlatti della RAI di Napoli. Concerto organizzato in sinergia con l’Assessorato alla Cultura del Comune di Napoli. \nIn programma brani di Scarlatti\, Schubert\, Beethoven\, Ravel. \nNuova Orchestra Scarlatti diretta dal M° Giulio Moles – Orchestra Scarlatti Junior diretta dal M° Gaetano Russo. \nIngresso Gratuito fino ad esaurimento posti. \nPer informazioni: 0812535984 e info@nuovaorchestrascarlatti.it \n
URL:https://archivio.mostradoltremare.it/event/concerto-25-anni-della-nuova-orchestra-scarlatti/
LOCATION:Teatro Mediterraneo e Piazzale antistante\, Viale J.F.Kennedy 54\, Napoli\, 80125
CATEGORIES:Spettacolo
ATTACH;FMTTYPE=image/jpeg:https://archivio.mostradoltremare.it/wp-content/uploads/2018/03/Scarlatti-25anni.jpg
ORGANIZER;CN="Associazione%20Nuova%20Orchestra%20Scarlatti":MAILTO:info@nuovaorchestrascarlatti.it
END:VEVENT
END:VCALENDAR