BEGIN:VCALENDAR
VERSION:2.0
PRODID:-//Mostra d&#039;Oltremare di Napoli - ECPv5.0.3.1//NONSGML v1.0//EN
CALSCALE:GREGORIAN
METHOD:PUBLISH
X-WR-CALNAME:Mostra d&#039;Oltremare di Napoli
X-ORIGINAL-URL:https://archivio.mostradoltremare.it
X-WR-CALDESC:Eventi per Mostra d&#039;Oltremare di Napoli
BEGIN:VTIMEZONE
TZID:UTC
BEGIN:STANDARD
TZOFFSETFROM:+0000
TZOFFSETTO:+0000
TZNAME:UTC
DTSTART:20180101T000000
END:STANDARD
END:VTIMEZONE
BEGIN:VEVENT
DTSTART;TZID=UTC:20180323T203000
DTEND;TZID=UTC:20180323T223000
DTSTAMP:20260419T202523
CREATED:20180131T113417Z
LAST-MODIFIED:20180322T100358Z
UID:6905-1521837000-1521844200@archivio.mostradoltremare.it
SUMMARY:Ciro Sciallo in concerto
DESCRIPTION:con il suo ultimo album “Controvento” \n
URL:https://archivio.mostradoltremare.it/event/ciro-sciallo-concerto/
LOCATION:Teatro Mediterraneo e Piazzale antistante\, Viale J.F.Kennedy 54\, Napoli\, 80125
CATEGORIES:Spettacolo
ATTACH;FMTTYPE=image/jpeg:https://archivio.mostradoltremare.it/wp-content/uploads/2018/01/Sciallo_in_concerto.jpg
END:VEVENT
END:VCALENDAR