BEGIN:VCALENDAR
VERSION:2.0
PRODID:-//Mostra d&#039;Oltremare di Napoli - ECPv5.0.3.1//NONSGML v1.0//EN
CALSCALE:GREGORIAN
METHOD:PUBLISH
X-WR-CALNAME:Mostra d&#039;Oltremare di Napoli
X-ORIGINAL-URL:https://archivio.mostradoltremare.it
X-WR-CALDESC:Eventi per Mostra d&#039;Oltremare di Napoli
BEGIN:VTIMEZONE
TZID:UTC
BEGIN:STANDARD
TZOFFSETFROM:+0000
TZOFFSETTO:+0000
TZNAME:UTC
DTSTART:20180101T000000
END:STANDARD
END:VTIMEZONE
BEGIN:VEVENT
DTSTART;TZID=UTC:20180506T180000
DTEND;TZID=UTC:20180506T220000
DTSTAMP:20260419T170242
CREATED:20180228T161111Z
LAST-MODIFIED:20180503T130231Z
UID:7146-1525629600-1525644000@archivio.mostradoltremare.it
SUMMARY:Saggio dell'ASD Centro Danza Promozione Sviluppo e Attività Formative
DESCRIPTION:
URL:https://archivio.mostradoltremare.it/event/saggio-dellasd-centro-danza-promozione-sviluppo-attivita-formative/
LOCATION:Teatro Mediterraneo e Piazzale antistante\, Viale J.F.Kennedy 54\, Napoli\, 80125
CATEGORIES:Spettacolo
END:VEVENT
END:VCALENDAR