BEGIN:VCALENDAR
VERSION:2.0
PRODID:-//Mostra d&#039;Oltremare di Napoli - ECPv5.0.3.1//NONSGML v1.0//EN
CALSCALE:GREGORIAN
METHOD:PUBLISH
X-WR-CALNAME:Mostra d&#039;Oltremare di Napoli
X-ORIGINAL-URL:https://archivio.mostradoltremare.it
X-WR-CALDESC:Eventi per Mostra d&#039;Oltremare di Napoli
BEGIN:VTIMEZONE
TZID:UTC
BEGIN:STANDARD
TZOFFSETFROM:+0000
TZOFFSETTO:+0000
TZNAME:UTC
DTSTART:20180101T000000
END:STANDARD
END:VTIMEZONE
BEGIN:VEVENT
DTSTART;TZID=UTC:20180609T190000
DTEND;TZID=UTC:20180609T235900
DTSTAMP:20260419T153404
CREATED:20180209T111651Z
LAST-MODIFIED:20180604T141428Z
UID:6973-1528570800-1528588740@archivio.mostradoltremare.it
SUMMARY:Saggio di danza ASD Dance to Win
DESCRIPTION:Ingresso ad inviti \n
URL:https://archivio.mostradoltremare.it/event/saggio-danza-asd-dance-to-win-2/
LOCATION:Teatro Mediterraneo e Piazzale antistante\, Viale J.F.Kennedy 54\, Napoli\, 80125
CATEGORIES:Spettacolo
ATTACH;FMTTYPE=image/jpeg:https://archivio.mostradoltremare.it/wp-content/uploads/2018/02/dance-to-win.jpg
ORGANIZER;CN="ASD%20DANCE%20TO%20WIN":MAILTO:dancetowin@libero.it
END:VEVENT
END:VCALENDAR