BEGIN:VCALENDAR
VERSION:2.0
PRODID:-//Mostra d&#039;Oltremare di Napoli - ECPv5.0.3.1//NONSGML v1.0//EN
CALSCALE:GREGORIAN
METHOD:PUBLISH
X-WR-CALNAME:Mostra d&#039;Oltremare di Napoli
X-ORIGINAL-URL:https://archivio.mostradoltremare.it
X-WR-CALDESC:Eventi per Mostra d&#039;Oltremare di Napoli
BEGIN:VTIMEZONE
TZID:UTC
BEGIN:STANDARD
TZOFFSETFROM:+0000
TZOFFSETTO:+0000
TZNAME:UTC
DTSTART:20180101T000000
END:STANDARD
END:VTIMEZONE
BEGIN:VEVENT
DTSTART;TZID=UTC:20180624T180000
DTEND;TZID=UTC:20180624T230000
DTSTAMP:20260419T153354
CREATED:20180202T113800Z
LAST-MODIFIED:20180620T083020Z
UID:6945-1529863200-1529881200@archivio.mostradoltremare.it
SUMMARY:Saggio di danza Sheherazade 2018
DESCRIPTION:Ingresso ad inviti \n
URL:https://archivio.mostradoltremare.it/event/saggio-danza-sheherazade/
LOCATION:Teatro Mediterraneo e Piazzale antistante\, Viale J.F.Kennedy 54\, Napoli\, 80125
CATEGORIES:Spettacolo
ATTACH;FMTTYPE=image/jpeg:https://archivio.mostradoltremare.it/wp-content/uploads/2018/02/sheherazade.jpg
ORGANIZER;CN="S.S.D.%20SHEHERAZADE%20SRL":MAILTO:info@centrodanzasheherazade.it
END:VEVENT
END:VCALENDAR