BEGIN:VCALENDAR
VERSION:2.0
PRODID:-//Mostra d&#039;Oltremare di Napoli - ECPv5.0.3.1//NONSGML v1.0//EN
CALSCALE:GREGORIAN
METHOD:PUBLISH
X-WR-CALNAME:Mostra d&#039;Oltremare di Napoli
X-ORIGINAL-URL:https://archivio.mostradoltremare.it
X-WR-CALDESC:Eventi per Mostra d&#039;Oltremare di Napoli
BEGIN:VTIMEZONE
TZID:UTC
BEGIN:STANDARD
TZOFFSETFROM:+0000
TZOFFSETTO:+0000
TZNAME:UTC
DTSTART:20180101T000000
END:STANDARD
END:VTIMEZONE
BEGIN:VEVENT
DTSTART;TZID=UTC:20180707T193000
DTEND;TZID=UTC:20180707T235900
DTSTAMP:20260419T135357
CREATED:20180307T152921Z
LAST-MODIFIED:20180702T150113Z
UID:7184-1530991800-1531007940@archivio.mostradoltremare.it
SUMMARY:Saggio dell'Accademia Danza e Spettacolo
DESCRIPTION:Ingresso ad inviti \n
URL:https://archivio.mostradoltremare.it/event/saggio-dellaccademia-danza-spettacolo/
LOCATION:Teatro Mediterraneo e Piazzale antistante\, Viale J.F.Kennedy 54\, Napoli\, 80125
CATEGORIES:Spettacolo
ATTACH;FMTTYPE=image/jpeg:https://archivio.mostradoltremare.it/wp-content/uploads/2018/03/accademia-danza-e-spettacolo.jpg
END:VEVENT
BEGIN:VEVENT
DTSTART;TZID=UTC:20180707T210000
DTEND;TZID=UTC:20180707T230000
DTSTAMP:20260419T135357
CREATED:20180507T132337Z
LAST-MODIFIED:20180704T133507Z
UID:7545-1530997200-1531004400@archivio.mostradoltremare.it
SUMMARY:Benji e Fede
DESCRIPTION:Prima tappa del “Siamo Solo Noise Summer Tour”. \nIngresso: Via Terracina – Apertura cancelli: 19.30 \nPrezzi biglietti:\n-Cavea Bassa Gold Numerata € 51\,75\n-Cavea Bassa Premium Numerata € 46\,00\n-Cavea Bassa Laterale Numerata € 34\,50\n-Cavea Alta Centrale Numerata € 34\,50\n-Cavea Alta Laterale Numerata € 28\,75\n-Panoramica Non Numerata € 25\,30\n-Pacchetto: Early Entry – Cavea Bassa Gold Num € 81\,75 \nInfoline 0815628040 \n
URL:https://archivio.mostradoltremare.it/event/benji-e-fede/
LOCATION:Arena Flegrea\, Via Terracina 197\, Napoli\, 80125
CATEGORIES:Spettacolo
ATTACH;FMTTYPE=image/jpeg:https://archivio.mostradoltremare.it/wp-content/uploads/2018/05/benji-e-fede-7-luglio.jpg
ORGANIZER;CN="Come%20on%20Web%20srl":MAILTO:info@etes.it
END:VEVENT
END:VCALENDAR