BEGIN:VCALENDAR
VERSION:2.0
PRODID:-//Mostra d&#039;Oltremare di Napoli - ECPv5.0.3.1//NONSGML v1.0//EN
CALSCALE:GREGORIAN
METHOD:PUBLISH
X-WR-CALNAME:Mostra d&#039;Oltremare di Napoli
X-ORIGINAL-URL:https://archivio.mostradoltremare.it
X-WR-CALDESC:Eventi per Mostra d&#039;Oltremare di Napoli
BEGIN:VTIMEZONE
TZID:UTC
BEGIN:STANDARD
TZOFFSETFROM:+0000
TZOFFSETTO:+0000
TZNAME:UTC
DTSTART:20180101T000000
END:STANDARD
END:VTIMEZONE
BEGIN:VEVENT
DTSTART;TZID=UTC:20180709T203000
DTEND;TZID=UTC:20180909T235900
DTSTAMP:20260419T135449
CREATED:20180716T100422Z
LAST-MODIFIED:20180906T131909Z
UID:7926-1531168200-1536537540@archivio.mostradoltremare.it
SUMMARY:Green Paradise
DESCRIPTION:Cinema\, Pizzeria\, Lounge Bar ed Eventi Live nel verde della Mostra d’Oltremare. \nLe programmazioni cinematografiche saranno giornaliere ed a tema. Prezzo Euro 5\,00. \nGli eventi in programma saranno aggiornati settimanalmente attraverso i Social Network ed i principali mezzi di comunicazione. \nIngresso Viale Marconi. \n
URL:https://archivio.mostradoltremare.it/event/green-paradise/
LOCATION:esterno adiacenze Fontana Esedra\, Via Marconi\, Napoli
CATEGORIES:Parco,Spettacolo
ATTACH;FMTTYPE=image/jpeg:https://archivio.mostradoltremare.it/wp-content/uploads/2018/07/green-paradise-2018.jpg
ORGANIZER;CN="Red%20Carpet%20Unipersonale%20s.r.l.":MAILTO:info@green-paradise.it
END:VEVENT
BEGIN:VEVENT
DTSTART;TZID=UTC:20180715T210000
DTEND;TZID=UTC:20180715T230000
DTSTAMP:20260419T135449
CREATED:20180202T123158Z
LAST-MODIFIED:20180423T125655Z
UID:6960-1531688400-1531695600@archivio.mostradoltremare.it
SUMMARY:Kasabian in Concerto
DESCRIPTION:Prezzi biglietti: \n– Cavea bassa Euro 40\,00 + diritti di prevendita \n– Cavea alta Euro 34\,00 + diritti di prevendita \n– Panoramica Euro 30\,00 + diritti di prevendita \n
URL:https://archivio.mostradoltremare.it/event/kasabian-in-concerto/
LOCATION:Arena Flegrea\, Via Terracina 197\, Napoli\, 80125
CATEGORIES:Spettacolo
ATTACH;FMTTYPE=image/jpeg:https://archivio.mostradoltremare.it/wp-content/uploads/2018/02/kasabian.jpg
ORGANIZER;CN="Etes%20-%20Come%20on%20Web":MAILTO:info@etes.it
END:VEVENT
END:VCALENDAR