BEGIN:VCALENDAR
VERSION:2.0
PRODID:-//Mostra d&#039;Oltremare di Napoli - ECPv5.0.3.1//NONSGML v1.0//EN
CALSCALE:GREGORIAN
METHOD:PUBLISH
X-WR-CALNAME:Mostra d&#039;Oltremare di Napoli
X-ORIGINAL-URL:https://archivio.mostradoltremare.it
X-WR-CALDESC:Eventi per Mostra d&#039;Oltremare di Napoli
BEGIN:VTIMEZONE
TZID:UTC
BEGIN:STANDARD
TZOFFSETFROM:+0000
TZOFFSETTO:+0000
TZNAME:UTC
DTSTART:20190101T000000
END:STANDARD
END:VTIMEZONE
BEGIN:VEVENT
DTSTART;TZID=UTC:20190709T210000
DTEND;TZID=UTC:20190709T233000
DTSTAMP:20260420T082117
CREATED:20190311T095113Z
LAST-MODIFIED:20190311T095444Z
UID:9071-1562706000-1562715000@archivio.mostradoltremare.it
SUMMARY:Skunk Anansie in Concerto 25Live25
DESCRIPTION:A distanza di 8 anni\, gli Skunk Anansie tornano a Napoli in ambito Noisy Naples Festival. \nBiglietti in vendita nelle rivendite dei circuiti ETES e TICKETONE. \nPrezzi biglietti (inclusa prevendita): \n-cavea bassa centrale numerata= Euro 52\,00 \n-cavea bassa laterale numerata = Euro 39\,10 \n-panoramica numerata = Euro 25\,00 \n
URL:https://archivio.mostradoltremare.it/event/skunk-anansie-in-concerto/
LOCATION:Arena Flegrea\, Via Terracina 197\, Napoli\, 80125
CATEGORIES:Spettacolo
ATTACH;FMTTYPE=image/jpeg:https://archivio.mostradoltremare.it/wp-content/uploads/2019/03/skunk-anansie-9-luglio-19.jpg
ORGANIZER;CN="Come%20on%20Web%20srl":MAILTO:info@etes.it
END:VEVENT
END:VCALENDAR